BEGIN:VCALENDAR
VERSION:2.0
PRODID:SchoolNow
CALSCALE:GREGORIAN
BEGIN:VEVENT
UID:6447baf0-1124-11ef-b7ab-0a58a9feac02
DTSTAMP:20240513T122907Z
SUMMARY:School Committee - Student Advisory Council - at NHS
URL;VALUE=URI:https://www.norwood.k12.ma.us/about/calendar/5963353/school-c
 ommittee-student-advisory-council-at-nhs
DTSTART:20240516T142200Z
DTEND:20240516T151900Z
END:VEVENT
END:VCALENDAR
