BEGIN:VCALENDAR
VERSION:2.0
PRODID:SchoolNow
CALSCALE:GREGORIAN
BEGIN:VEVENT
UID:87862c18-1124-11ef-953b-0a58a9feac02
DTSTAMP:20240513T123006Z
SUMMARY:School Committee - Executive Session
URL;VALUE=URI:https://www.norwood.k12.ma.us/about/calendar/5963355/school-c
 ommittee-executive-session
DTSTART:20240523T193000Z
DTEND:20240523T203000Z
END:VEVENT
END:VCALENDAR
