BEGIN:VCALENDAR
VERSION:2.0
PRODID:SchoolNow
CALSCALE:GREGORIAN
BEGIN:VEVENT
UID:48b63e10-137c-11ef-9be6-0e7bf864445f
DTSTAMP:20240516T120318Z
SUMMARY:School Committee - Executive Session
URL;VALUE=URI:https://www.norwood.k12.ma.us/about/calendar/5980329/school-c
 ommittee-executive-session
DTSTART:20240606T193000Z
DTEND:20240606T203000Z
END:VEVENT
END:VCALENDAR
