BEGIN:VCALENDAR
VERSION:2.0
PRODID:SchoolNow
CALSCALE:GREGORIAN
BEGIN:VEVENT
UID:5f7febf4-138c-11ef-8d50-0242f1d7d0df
DTSTAMP:20240516T135829Z
SUMMARY:School Committee Budget Sub Committee Meeting - REMOTE MEETING ONLI
 NE
URL;VALUE=URI:https://www.norwood.k12.ma.us/about/calendar/5980333/school-c
 ommittee-budget-sub-committee-meeting-remote-meeting-online
DTSTART:20240520T180000Z
DTEND:20240520T190000Z
END:VEVENT
END:VCALENDAR
