BEGIN:VCALENDAR
VERSION:2.0
PRODID:SchoolNow
CALSCALE:GREGORIAN
BEGIN:VEVENT
UID:f6ab9a86-1ce8-11ef-aad0-0268e8b2edc3
DTSTAMP:20240528T115423Z
SUMMARY:School Committee - Executive Session - REMOTE MEETING ONLINE
URL;VALUE=URI:https://www.norwood.k12.ma.us/about/calendar/6039755/school-c
 ommittee-executive-session-clone
DTSTART:20240530T230000Z
DTEND:20240531T000000Z
END:VEVENT
END:VCALENDAR
