BEGIN:VCALENDAR
VERSION:2.0
PRODID:SchoolNow
CALSCALE:GREGORIAN
BEGIN:VEVENT
UID:306ee4b2-1ce9-11ef-90e6-0a58a9feac02
DTSTAMP:20240528T115533Z
SUMMARY:School Committee - Executive Session
URL;VALUE=URI:https://www.norwood.k12.ma.us/about/calendar/6039757/school-c
 ommittee-executive-session-clone
DTSTART:20240529T193000Z
DTEND:20240529T203000Z
END:VEVENT
END:VCALENDAR
