BEGIN:VCALENDAR
VERSION:2.0
PRODID:SchoolNow
CALSCALE:GREGORIAN
BEGIN:VEVENT
UID:a3e86c82-21a4-11ef-94af-0e25369d0f69
DTSTAMP:20240603T122728Z
SUMMARY:School Committee Executive Session
URL;VALUE=URI:https://www.norwood.k12.ma.us/about/calendar/6069974/school-c
 ommittee-executive-session
DTSTART:20240603T193000Z
DTEND:20240603T223000Z
END:VEVENT
END:VCALENDAR
