BEGIN:VCALENDAR
VERSION:2.0
PRODID:SchoolNow
CALSCALE:GREGORIAN
BEGIN:VEVENT
UID:bae86342-21a4-11ef-8daa-0a58a9feac02
DTSTAMP:20240603T122806Z
SUMMARY:School Committee Executive Session
URL;VALUE=URI:https://www.norwood.k12.ma.us/about/calendar/6069976/school-c
 ommittee-executive-session
DTSTART:20240611T193000Z
DTEND:20240611T223000Z
END:VEVENT
END:VCALENDAR
