BEGIN:VCALENDAR
VERSION:2.0
PRODID:SchoolNow
CALSCALE:GREGORIAN
BEGIN:VEVENT
UID:3f1bd8d8-21a5-11ef-a058-0a58a9feac02
DTSTAMP:20240603T123148Z
SUMMARY:School Committee Executive Session
URL;VALUE=URI:https://www.norwood.k12.ma.us/about/calendar/6069978/school-c
 ommittee-executive-session
DTSTART:20240617T193000Z
DTEND:20240617T203000Z
END:VEVENT
END:VCALENDAR
