BEGIN:VCALENDAR
VERSION:2.0
PRODID:SchoolNow
CALSCALE:GREGORIAN
BEGIN:VEVENT
UID:d1816442-29be-11ef-9a7f-0a58a9feac02
DTSTAMP:20240613T195500Z
SUMMARY:2024 Elementary Study Webinar
URL;VALUE=URI:https://www.norwood.k12.ma.us/about/calendar/6118441/2024-ele
 mentary-study-webinar
DTSTART:20240617T230000Z
DTEND:20240618T000000Z
END:VEVENT
END:VCALENDAR
