BEGIN:VCALENDAR
VERSION:2.0
PRODID:SchoolNow
CALSCALE:GREGORIAN
BEGIN:VEVENT
UID:2d8db6b6-2cab-11ef-a056-0a58a9feac02
DTSTAMP:20240617T131158Z
SUMMARY:School Committee Summer Workshop
URL;VALUE=URI:https://www.norwood.k12.ma.us/about/calendar/6133618/school-c
 ommittee-summer-workshop
DTSTART:20240710T230000Z
DTEND:20240711T000000Z
END:VEVENT
END:VCALENDAR
