BEGIN:VCALENDAR
VERSION:2.0
PRODID:SchoolNow
CALSCALE:GREGORIAN
BEGIN:VEVENT
UID:3fecbd6a-2cac-11ef-a726-0a58a9feac02
DTSTAMP:20250528T113924Z
SUMMARY:School Committee Meeting - CANCELED
URL;VALUE=URI:https://www.norwood.k12.ma.us/about/calendar/6133649/school-c
 ommittee-meeting-hybrid-meeting-in-person-at-savage-center-see-schedule-pa
 ge-for-details-clone-clone-clone-clone-clone-clone-clone-clone-clone-clone
 -clone-clone-clone-clone-clone-clone-clone
DTSTART:20250528T230000Z
DTEND:20250529T000000Z
END:VEVENT
END:VCALENDAR
