BEGIN:VCALENDAR
VERSION:2.0
PRODID:SchoolNow
CALSCALE:GREGORIAN
BEGIN:VEVENT
UID:1b732646-2efe-11ef-a820-0ee4af65b7c3
DTSTAMP:20240620T121038Z
SUMMARY:School Committee Meeting - Executive Session
URL;VALUE=URI:https://www.norwood.k12.ma.us/about/calendar/6146869/school-c
 ommittee-meeting-executive-session
DTSTART:20240624T230000Z
DTEND:20240625T000000Z
END:VEVENT
END:VCALENDAR
