BEGIN:VCALENDAR
VERSION:2.0
PRODID:SchoolNow
CALSCALE:GREGORIAN
BEGIN:VEVENT
UID:b3d0ce2a-32eb-11ef-94b4-0a58a9feac02
DTSTAMP:20240625T120858Z
SUMMARY:School Committee Executive Session
URL;VALUE=URI:https://www.norwood.k12.ma.us/about/calendar/6165420/school-c
 ommittee-executive-session
DTSTART:20240626T140000Z
DTEND:20240626T150000Z
END:VEVENT
END:VCALENDAR
