BEGIN:VCALENDAR
VERSION:2.0
PRODID:SchoolNow
CALSCALE:GREGORIAN
BEGIN:VEVENT
UID:5a213a16-3937-11ef-9880-0a58a9feac02
DTSTAMP:20240703T122536Z
SUMMARY:School Committee - Budget Sub Committee Meeting - REMOTE MEETING ON
 LINE
URL;VALUE=URI:https://www.norwood.k12.ma.us/about/calendar/6206531/school-c
 ommittee-budget-sub-committee-meeting-remote-meeting-online
DTSTART:20240708T170000Z
DTEND:20240708T180000Z
END:VEVENT
END:VCALENDAR
