BEGIN:VCALENDAR
VERSION:2.0
PRODID:SchoolNow
CALSCALE:GREGORIAN
BEGIN:VEVENT
UID:dec681aa-3ec7-11ef-b614-0a58a9feac02
DTSTAMP:20240710T142242Z
SUMMARY:No School - Holiday - Indigenous People's Day/Columbus Day
URL;VALUE=URI:https://www.norwood.k12.ma.us/about/calendar/6242115/no-schoo
 l-holiday-indigenous-peoples-day-columbus-day-clone
DTSTART;VALUE=DATE:20241014
DTEND;VALUE=DATE:20241015
END:VEVENT
END:VCALENDAR
