BEGIN:VCALENDAR
VERSION:2.0
PRODID:SchoolNow
CALSCALE:GREGORIAN
BEGIN:VEVENT
UID:5a154f6a-6967-11f0-b97f-0eeef5b311df
DTSTAMP:20250725T145506Z
SUMMARY:Early Release All Schools
URL;VALUE=URI:https://www.norwood.k12.ma.us/about/calendar/8445779/early-re
 lease-all-schools-clone-clone
DTSTART;VALUE=DATE:20250918
DTEND;VALUE=DATE:20250919
END:VEVENT
END:VCALENDAR
