BEGIN:VCALENDAR
VERSION:2.0
PRODID:SchoolNow
CALSCALE:GREGORIAN
BEGIN:VEVENT
UID:fa362c3a-e929-11ea-8eb5-0a2eeff78d81
DTSTAMP:20200828T123840Z
SUMMARY:No School - Professional Day
URL;VALUE=URI:https://www.norwood.k12.ma.us/balch/calendar/2323152/no-schoo
 l-professional-development-day
DTSTART;VALUE=DATE:20201103
DTEND;VALUE=DATE:20201104
END:VEVENT
END:VCALENDAR
