BEGIN:VCALENDAR
VERSION:2.0
PRODID:SchoolNow
CALSCALE:GREGORIAN
BEGIN:VEVENT
UID:2ce5b538-e92a-11ea-8be9-0a2eeff78d81
DTSTAMP:20200828T122953Z
SUMMARY:No School - Veteran's Day
URL;VALUE=URI:https://www.norwood.k12.ma.us/balch/calendar/2323170/no-schoo
 l-veterans-day
DTSTART;VALUE=DATE:20201111
DTEND;VALUE=DATE:20201112
END:VEVENT
END:VCALENDAR
