BEGIN:VCALENDAR
VERSION:2.0
PRODID:SchoolNow
CALSCALE:GREGORIAN
BEGIN:VEVENT
UID:51ae097e-e92a-11ea-9675-0a2eeff78d81
DTSTAMP:20201009T145608Z
SUMMARY:Early Release - All Schools - Parent Conferences
URL;VALUE=URI:https://www.norwood.k12.ma.us/balch/calendar/2323179/early-re
 lease-all-schools-parent-conferences
DTSTART;VALUE=DATE:20201118
DTEND;VALUE=DATE:20201119
END:VEVENT
END:VCALENDAR
