BEGIN:VCALENDAR
VERSION:2.0
PRODID:SchoolNow
CALSCALE:GREGORIAN
BEGIN:VEVENT
UID:8a21e5a0-e92a-11ea-9103-0a2eeff78d81
DTSTAMP:20200828T123230Z
SUMMARY:Early Release - All Schools Close at Noon
URL;VALUE=URI:https://www.norwood.k12.ma.us/balch/calendar/2323188/early-re
 lease-all-schools-close-at-noon
DTSTART;VALUE=DATE:20201125
DTEND;VALUE=DATE:20201126
END:VEVENT
END:VCALENDAR
