BEGIN:VCALENDAR
VERSION:2.0
PRODID:SchoolNow
CALSCALE:GREGORIAN
BEGIN:VEVENT
UID:c7c1a756-e92a-11ea-8976-0afb21c6f975
DTSTAMP:20200828T123413Z
SUMMARY:No School - Thanksgiving Holiday
URL;VALUE=URI:https://www.norwood.k12.ma.us/balch/calendar/2323197/no-schoo
 l-thanksgiving-holiday
DTSTART;VALUE=DATE:20201126
DTEND;VALUE=DATE:20201128
END:VEVENT
END:VCALENDAR
