BEGIN:VCALENDAR
VERSION:2.0
PRODID:SchoolNow
CALSCALE:GREGORIAN
BEGIN:VEVENT
UID:1de4bdc6-e92b-11ea-b029-0afb21c6f975
DTSTAMP:20200828T123638Z
SUMMARY:No School - Winter Break
URL;VALUE=URI:https://www.norwood.k12.ma.us/balch/calendar/2323228/no-schoo
 l-winter-break
DTSTART;VALUE=DATE:20201224
DTEND;VALUE=DATE:20210101
END:VEVENT
END:VCALENDAR
