BEGIN:VCALENDAR
VERSION:2.0
PRODID:SchoolNow
CALSCALE:GREGORIAN
BEGIN:VEVENT
UID:0e99b8c0-e92c-11ea-ba5c-0afb21c6f975
DTSTAMP:20201009T145653Z
SUMMARY:Early Release - All Schools
URL;VALUE=URI:https://www.norwood.k12.ma.us/balch/calendar/2323284/early-re
 lease-all-schools
DTSTART;VALUE=DATE:20210324
DTEND;VALUE=DATE:20210325
END:VEVENT
END:VCALENDAR
