BEGIN:VCALENDAR
VERSION:2.0
PRODID:SchoolNow
CALSCALE:GREGORIAN
BEGIN:VEVENT
UID:b2342918-eeb6-11ea-86d1-12a421ff69db
DTSTAMP:20200904T135822Z
SUMMARY:Staggered Start: Full Time Students In School\; Hybrid Students in 
 Grades 1\, 2\, 6\, & 9 In School on their days\; Hybrid Students in Grades
  3-5\, 7-8\, 10-12 Remote
DESCRIPTION:A (Blue Days) In Person Monday & Tuesday\nB (Gold Days) In Pers
 on Thursday & Friday
URL;VALUE=URI:https://www.norwood.k12.ma.us/balch/calendar/2335451/staggere
 d-start-grades-1-2-6-9-hybrid-students-in-person-this-week-grades-3-5-7-8-
 10-12-remote
DTSTART;VALUE=DATE:20200921
DTEND;VALUE=DATE:20200926
END:VEVENT
END:VCALENDAR
