BEGIN:VCALENDAR
VERSION:2.0
PRODID:SchoolNow
CALSCALE:GREGORIAN
BEGIN:VEVENT
UID:a17f9bf6-8b3d-11eb-87e3-02c8f245899f
DTSTAMP:20210520T190820Z
SUMMARY:Early Release - Grades 1-5 ONLY
URL;VALUE=URI:https://www.norwood.k12.ma.us/balch/calendar/2560316/early-re
 lease-grades-k-5-only
DTSTART;VALUE=DATE:20210526
DTEND;VALUE=DATE:20210527
END:VEVENT
END:VCALENDAR
