BEGIN:VCALENDAR
VERSION:2.0
PRODID:SchoolNow
CALSCALE:GREGORIAN
BEGIN:VEVENT
UID:05fd9efe-f5ef-11eb-9e1c-0a4c584a8ccf
DTSTAMP:20211123T135935Z
SUMMARY:Early Release All Schools
URL;VALUE=URI:https://www.norwood.k12.ma.us/balch/calendar/2655626/early-re
 lease-all-schools
DTSTART;VALUE=DATE:20211005
DTEND;VALUE=DATE:20211006
END:VEVENT
END:VCALENDAR
