BEGIN:VCALENDAR
VERSION:2.0
PRODID:SchoolNow
CALSCALE:GREGORIAN
BEGIN:VEVENT
UID:f96c9342-f5ef-11eb-859e-0a4c584a8ccf
DTSTAMP:20211123T135743Z
SUMMARY:Early Release All School - Elementary Releases at Noon\, Willett Re
 leases at 11:30
URL;VALUE=URI:https://www.norwood.k12.ma.us/balch/calendar/2655691/early-re
 lease-all-school-elementary-releases-at-noon
DTSTART;VALUE=DATE:20211223
DTEND;VALUE=DATE:20211224
END:VEVENT
END:VCALENDAR
