BEGIN:VCALENDAR
VERSION:2.0
PRODID:SchoolNow
CALSCALE:GREGORIAN
BEGIN:VEVENT
UID:0d999536-f5f0-11eb-95e8-0a4c584a8ccf
DTSTAMP:20211008T201429Z
SUMMARY:No School - Winter Break
URL;VALUE=URI:https://www.norwood.k12.ma.us/balch/calendar/2655700/no-schoo
 l-vacation
DTSTART;VALUE=DATE:20211224
DTEND;VALUE=DATE:20220101
END:VEVENT
END:VCALENDAR
