BEGIN:VCALENDAR
VERSION:2.0
PRODID:SchoolNow
CALSCALE:GREGORIAN
BEGIN:VEVENT
UID:8de39452-f5f1-11eb-afd0-0a4c584a8ccf
DTSTAMP:20211123T135903Z
SUMMARY:Early Release All Schools - K-5 Parent Conferences
URL;VALUE=URI:https://www.norwood.k12.ma.us/balch/calendar/2655756/early-re
 lease-all-schools-k-5-parent-conferences
DTSTART;VALUE=DATE:20220309
DTEND;VALUE=DATE:20220310
END:VEVENT
END:VCALENDAR
