BEGIN:VCALENDAR
VERSION:2.0
PRODID:SchoolNow
CALSCALE:GREGORIAN
BEGIN:VEVENT
UID:884b507c-f5f4-11eb-92fb-0edac73bbcd3
DTSTAMP:20211123T135909Z
SUMMARY:Early Release All Schools
URL;VALUE=URI:https://www.norwood.k12.ma.us/balch/calendar/2655787/early-re
 lease-all-schools
DTSTART;VALUE=DATE:20220506
DTEND;VALUE=DATE:20220507
END:VEVENT
END:VCALENDAR
