BEGIN:VCALENDAR
VERSION:2.0
PRODID:SchoolNow
CALSCALE:GREGORIAN
BEGIN:VEVENT
UID:0ab5e72a-f5f5-11eb-beb0-0edac73bbcd3
DTSTAMP:20210805T135716Z
SUMMARY:185th School Day - Additional 5 days if neeed
URL;VALUE=URI:https://www.norwood.k12.ma.us/balch/calendar/2655833/185th-sc
 hool-day-additional-5-days-if-neeed
DTSTART;VALUE=DATE:20220629
DTEND;VALUE=DATE:20220630
END:VEVENT
END:VCALENDAR
