BEGIN:VCALENDAR
VERSION:2.0
PRODID:SchoolNow
CALSCALE:GREGORIAN
BEGIN:VEVENT
UID:6d6d3392-0129-11ed-9d24-0a92716e8889
DTSTAMP:20220711T145455Z
SUMMARY:No School - Holiday
URL;VALUE=URI:https://www.norwood.k12.ma.us/balch/calendar/3240294/no-schoo
 l-holiday
DTSTART;VALUE=DATE:20220902
DTEND;VALUE=DATE:20220906
END:VEVENT
END:VCALENDAR
