BEGIN:VCALENDAR
VERSION:2.0
PRODID:SchoolNow
CALSCALE:GREGORIAN
BEGIN:VEVENT
UID:17ec2026-012a-11ed-aaa5-0a92716e8889
DTSTAMP:20220711T145941Z
SUMMARY:No School - Professional Day
URL;VALUE=URI:https://www.norwood.k12.ma.us/balch/calendar/3240303/no-schoo
 l-professional-day
DTSTART;VALUE=DATE:20220906
DTEND;VALUE=DATE:20220907
END:VEVENT
END:VCALENDAR
