BEGIN:VCALENDAR
VERSION:2.0
PRODID:SchoolNow
CALSCALE:GREGORIAN
BEGIN:VEVENT
UID:22800e12-012a-11ed-a77c-0a92716e8889
DTSTAMP:20220711T145959Z
SUMMARY:First Day of School Grades 1-12
URL;VALUE=URI:https://www.norwood.k12.ma.us/balch/calendar/3240312/first-da
 y-of-school-grades-1-12
DTSTART;VALUE=DATE:20220907
DTEND;VALUE=DATE:20220908
END:VEVENT
END:VCALENDAR
