BEGIN:VCALENDAR
VERSION:2.0
PRODID:SchoolNow
CALSCALE:GREGORIAN
BEGIN:VEVENT
UID:66f366ac-012a-11ed-bb24-0a92716e8889
DTSTAMP:20220711T150154Z
SUMMARY:No School - Columbus\, Indigenous Peoples' Day
URL;VALUE=URI:https://www.norwood.k12.ma.us/balch/calendar/3240331/no-schoo
 l-holiday-columbus-indigenous-peoples-day
DTSTART;VALUE=DATE:20221010
DTEND;VALUE=DATE:20221011
END:VEVENT
END:VCALENDAR
