BEGIN:VCALENDAR
VERSION:2.0
PRODID:SchoolNow
CALSCALE:GREGORIAN
BEGIN:VEVENT
UID:222d05b8-012b-11ed-9f44-0a92716e8889
DTSTAMP:20220711T150708Z
SUMMARY:No School Veteran's Day
URL;VALUE=URI:https://www.norwood.k12.ma.us/balch/calendar/3240360/no-schoo
 l-veterans-day
DTSTART;VALUE=DATE:20221111
DTEND;VALUE=DATE:20221112
END:VEVENT
END:VCALENDAR
