BEGIN:VCALENDAR
VERSION:2.0
PRODID:SchoolNow
CALSCALE:GREGORIAN
BEGIN:VEVENT
UID:c468da7e-0148-11ed-bc3a-0ec0e2f11e91
DTSTAMP:20220711T183916Z
SUMMARY:School Vacation
URL;VALUE=URI:https://www.norwood.k12.ma.us/balch/calendar/3240612/school-v
 acation
DTSTART;VALUE=DATE:20221226
DTEND;VALUE=DATE:20230103
END:VEVENT
END:VCALENDAR
