BEGIN:VCALENDAR
VERSION:2.0
PRODID:SchoolNow
CALSCALE:GREGORIAN
BEGIN:VEVENT
UID:a50b89dc-0149-11ed-981e-0ec0e2f11e91
DTSTAMP:20220711T184533Z
SUMMARY:School Vacation
URL;VALUE=URI:https://www.norwood.k12.ma.us/balch/calendar/3240677/school-v
 acation
DTSTART;VALUE=DATE:20230417
DTEND;VALUE=DATE:20230422
END:VEVENT
END:VCALENDAR
