BEGIN:VCALENDAR
VERSION:2.0
PRODID:SchoolNow
CALSCALE:GREGORIAN
BEGIN:VEVENT
UID:f82834da-0149-11ed-b4aa-0ec0e2f11e91
DTSTAMP:20220711T184752Z
SUMMARY:No School Memorial Day
URL;VALUE=URI:https://www.norwood.k12.ma.us/balch/calendar/3240697/no-schoo
 l-memorial-day
DTSTART;VALUE=DATE:20230529
DTEND;VALUE=DATE:20230530
END:VEVENT
END:VCALENDAR
