BEGIN:VCALENDAR
VERSION:2.0
PRODID:SchoolNow
CALSCALE:GREGORIAN
BEGIN:VEVENT
UID:3f42864e-68bd-11f0-a33a-0a58a9feac02
DTSTAMP:20250724T183726Z
SUMMARY:First Day of School
URL;VALUE=URI:https://www.norwood.k12.ma.us/callahan/calendar/8442990/first
 -day-of-school
DTSTART:20250902T115000Z
DTEND:20250902T180500Z
END:VEVENT
END:VCALENDAR
