BEGIN:VCALENDAR
VERSION:2.0
PRODID:SchoolNow
CALSCALE:GREGORIAN
BEGIN:VEVENT
UID:94062256-68bf-11f0-87f8-0a58a9feac02
DTSTAMP:20250724T185407Z
SUMMARY:First Grade Orientation (first grade students and families only)
URL;VALUE=URI:https://www.norwood.k12.ma.us/callahan/calendar/8442993/first
 -grade-orientation-first-grade-students-and-families-only
DTSTART:20250828T173000Z
DTEND:20250828T181500Z
END:VEVENT
END:VCALENDAR
