BEGIN:VCALENDAR
VERSION:2.0
PRODID:SchoolNow
CALSCALE:GREGORIAN
BEGIN:VEVENT
UID:ae2b71e0-68bf-11f0-867a-0a58a9feac02
DTSTAMP:20250724T185451Z
SUMMARY:Popsicles on the Playground
URL;VALUE=URI:https://www.norwood.k12.ma.us/callahan/calendar/8442994/popsi
 cles-on-the-playground
DTSTART:20250828T181500Z
DTEND:20250828T184500Z
END:VEVENT
END:VCALENDAR
