BEGIN:VCALENDAR
VERSION:2.0
PRODID:SchoolNow
CALSCALE:GREGORIAN
BEGIN:VEVENT
UID:d5a3a652-68bf-11f0-80b7-0a58a9feac02
DTSTAMP:20250724T185558Z
SUMMARY:Callahan Back-to-School Night
URL;VALUE=URI:https://www.norwood.k12.ma.us/callahan/calendar/8442995/calla
 han-back-to-school-night
DTSTART:20250925T210000Z
DTEND:20250925T230000Z
END:VEVENT
END:VCALENDAR
