BEGIN:VCALENDAR
VERSION:2.0
PRODID:SchoolNow
CALSCALE:GREGORIAN
BEGIN:VEVENT
UID:f0dda22c-177a-11e8-bc80-0ad43a77a624
DTSTAMP:20180222T024902Z
SUMMARY:&quot\;Because of Winn Dixie&quot\; School Assembly
URL;VALUE=URI:https://www.norwood.k12.ma.us/cleveland/calendar/1714474/quot
 -because-of-winn-dixie-quot-school-assembly
DTSTART:20160415T145000Z
DTEND:20160416T035959Z
END:VEVENT
END:VCALENDAR
