BEGIN:VCALENDAR
VERSION:2.0
PRODID:SchoolNow
CALSCALE:GREGORIAN
BEGIN:VEVENT
UID:1beec7f8-a096-11e8-b5c5-0ab71564ac06
DTSTAMP:20180815T141840Z
SUMMARY:December Recess - Schools Close at Noon (Schools Closed Dec. 24 - J
 an. 1)
URL;VALUE=URI:https://www.norwood.k12.ma.us/cleveland/calendar/1832399/kind
 ergarten-pre-school-begin-clone-clone-clone-clone
DTSTART:20181221T050000Z
DTEND:20190101T090000Z
END:VEVENT
END:VCALENDAR
