BEGIN:VCALENDAR
VERSION:2.0
PRODID:SchoolNow
CALSCALE:GREGORIAN
BEGIN:VEVENT
UID:4df51694-a096-11e8-983f-0ab71564ac06
DTSTAMP:20180815T142004Z
SUMMARY:Professional Development Day - Students not in session
URL;VALUE=URI:https://www.norwood.k12.ma.us/cleveland/calendar/1832428/kind
 ergarten-pre-school-begin-clone-clone-clone-clone-clone-clone
DTSTART:20190102T050000Z
DTEND:20190102T110000Z
END:VEVENT
END:VCALENDAR
