BEGIN:VCALENDAR
VERSION:2.0
PRODID:SchoolNow
CALSCALE:GREGORIAN
BEGIN:VEVENT
UID:787f4c18-a096-11e8-870e-0ab71564ac06
DTSTAMP:20180815T142116Z
SUMMARY:Schools Reopen
URL;VALUE=URI:https://www.norwood.k12.ma.us/cleveland/calendar/1832456/kind
 ergarten-pre-school-begin-clone-clone-clone-clone-clone-clone-clone
DTSTART:20190103T050000Z
DTEND:20190103T120000Z
END:VEVENT
END:VCALENDAR
