BEGIN:VCALENDAR
VERSION:2.0
PRODID:SchoolNow
CALSCALE:GREGORIAN
BEGIN:VEVENT
UID:d3db1844-a096-11e8-b77b-0ab71564ac06
DTSTAMP:20180815T142349Z
SUMMARY:Professional Development Day - 1/2 day - AM Sessision Only
URL;VALUE=URI:https://www.norwood.k12.ma.us/cleveland/calendar/1832514/kind
 ergarten-pre-school-begin-clone-clone-clone-clone-clone
DTSTART:20190207T050000Z
DTEND:20190207T100000Z
END:VEVENT
END:VCALENDAR
