BEGIN:VCALENDAR
VERSION:2.0
PRODID:SchoolNow
CALSCALE:GREGORIAN
BEGIN:VEVENT
UID:1b0b1484-a098-11e8-b3ee-0ae8ea657bd6
DTSTAMP:20180815T143258Z
SUMMARY:Schools Reopen
URL;VALUE=URI:https://www.norwood.k12.ma.us/cleveland/calendar/1832715/kind
 ergarten-pre-school-begin-clone-clone-clone-clone-clone-clone-clone-clone
DTSTART:20190422T040000Z
DTEND:20190422T120000Z
END:VEVENT
END:VCALENDAR
